BEGIN:VCALENDAR
VERSION:2.0
PRODID:-//Shunyoso Historic Country Retreat on Awaji Island - ECPv6.15.20//NONSGML v1.0//EN
CALSCALE:GREGORIAN
METHOD:PUBLISH
X-WR-CALNAME:Shunyoso Historic Country Retreat on Awaji Island
X-ORIGINAL-URL:https://shunyoso.jp
X-WR-CALDESC:Shunyoso Historic Country Retreat on Awaji Island のイベント
REFRESH-INTERVAL;VALUE=DURATION:PT1H
X-Robots-Tag:noindex
X-PUBLISHED-TTL:PT1H
BEGIN:VTIMEZONE
TZID:Asia/Tokyo
BEGIN:STANDARD
TZOFFSETFROM:+0900
TZOFFSETTO:+0900
TZNAME:JST
DTSTART:20160101T000000
END:STANDARD
END:VTIMEZONE
BEGIN:VEVENT
DTSTART;TZID=Asia/Tokyo:20251102T130000
DTEND;TZID=Asia/Tokyo:20251102T163000
DTSTAMP:20260425T114259
CREATED:20250918T090837Z
LAST-MODIFIED:20250919T080043Z
UID:2125-1762088400-1762101000@shunyoso.jp
SUMMARY:第七回　春陽荘秋の芸能文化祭
DESCRIPTION:恒例の「春陽荘秋の芸能文化祭」も今回で七回目となります。本祭は淡路島が誇る無形文化財と春陽荘の有形文化財の融合を通して、島のルーツである文化の継承と保全の大切さを考え、地域の宝を再発見することを目的として開催しております。 \n今回の見どころは、毎月22日に伊弉諾神宮にて見られる「國生み創生神楽」がお越し頂けることとなりました。また島民もあまり知らない淡路島の民謡、そして昨年までお越し頂いていた「三原中学校の郷土部」のOBによる大人の人形浄瑠璃の豪華キャストで楽しんで頂ければと思います。 \n令和7年11月2日(日)　開場正午　開演午後1時　閉場午後4時半\n◆淡路國生み創生神楽の部　(淡路國生み創生神楽文化振興協議會)\n古事記・日本書紀の冒頭に記された『国生み神話』を基にした創生神楽\n①飛龍おのころ之舞　②鳴動地固之舞　③国生之舞ほか \n◆淡路民謡の部（なのはな組）\n後世に残すため淡路島の民謡を研究しているグループによる公演\n①洲本芝右衛門狸の物語\n②洲本小唄\n③ふるさと音頭\n④阿波踊り \n◆人形浄瑠璃の部（淡路人形芸舞組）\n南淡中学校郷土芸能部のOB会として西宮神社会館など近畿圏内を中心に活動\n①御祝儀 戎舞 \n【料金】\n一般：2\,500円、学生（小中高）：1\,000円\n一般社団法人春陽荘文化財保存会会員：ご招待\n※ほうじ茶と辨天堂さんの生菓子付\n※未就学児は大人の膝上で静かにご覧ください。 \n【申込先】0799-62-0534高山090-4309-7973不在時直通\n先着20名様まで事前予約を受け付けます。ご希望の方は氏名、住所、電話番号、希望時間、人数をお伝え下さい。オンラインフォームもご利用ください。\n※椅子席(6)をご希望の方は必ず事前に予約をお願いします。\n郵便振替用紙を郵送致します。オンライン申込も受付中。当日参加もOK!\n※駐車場は春陽荘、または洲浜中学校向かい西本歯科か炬口八幡神社へ\n（台数に限りがありますので乗り合わせにご協力願います） \n最後に、文化財を傷つけない、壊さない、庭園は飛び石の上、砂利を踏まないようにご協力お願い致します。出演者の写真をSNSなどで拡散する場合は、事前に本人の了承を得てください。 \n洲本市宇山2丁目5-4（電話0799-20-1729） \nオンライン予約フォームはこちら \n 
URL:https://shunyoso.jp/event/2025culturalfestival/
CATEGORIES:郷土文化
ORGANIZER;CN="%E4%B8%80%E8%88%AC%E7%A4%BE%E5%9B%A3%E6%B3%95%E4%BA%BA%E6%98%A5%E9%99%BD%E8%8D%98%E6%96%87%E5%8C%96%E8%B2%A1%E4%BF%9D%E5%AD%98%E4%BC%9A":MAILTO:amormasa@gmail.com
END:VEVENT
BEGIN:VEVENT
DTSTART;TZID=Asia/Tokyo:20250315T140000
DTEND;TZID=Asia/Tokyo:20250315T170000
DTSTAMP:20260425T114259
CREATED:20250204T091720Z
LAST-MODIFIED:20250214T053812Z
UID:2078-1742047200-1742058000@shunyoso.jp
SUMMARY:潮地区を元気にする会（仮称）」設立イベント
DESCRIPTION:「地域を元気にして、 未来へと つなげる仲間を増やしていく こと 」 を目的に、活動内容の報告、 潮地区の地域を深く 学べる勉強会及び地域活性化に向けた意見交換会を行う お披露目会イベントを開催します。 \n \n洲本港付近にあたる潮地区（宇山、 炬口、 塩屋、下加茂）。本瓦葺きの屋根を持つ家々が軒を連ね、 その間には迷路のように路地がつながっているなど、 特有の景観が残っています。 市街地にも近い上、 海や里山の自然が身近にあり 、 山城址や八幡\n神社の文化財や祭礼など様々な魅力があるまちです。しかしながら多く の課題があるのも現状です。「潮地区を元気にする会」 では、 空き家の問題や少子高齢化、 人口減少など、様々な課題を解決する糸口を探るべく 、 協議を重ねています。\nひと つの集落は島の縮図であり 、 地域が元気になること は淡路島、 そして日本全体が元気になること につながると 私たちは考えています。 淡路島の潮地区での真に豊かなインクルーシブ社会の実現を目指して学び、 語り 合う 会です。 一緒に、 持続可能なまちづく り をしていきいませんか？ \n【第一部】まちの過去・ 現在を知る\n地域に詳しい講師や、 島外から地域貢献する観光のあり 方に詳しい講師をお招きしての勉強会。 地域の現状と 課題、 歴史と 文化、 暮らし、 観光など、 より 深い淡路島を知り 、 学べる時間です。 \n①　濱口氏： 炬口の地名の由来から、 炬口八幡宮の話、甲冑の話、花の活動の話など\n②　太田氏：地域の現状・ 課題と魅力 \n【第二部】まちの未来を考える\n参加者みんなでグループに分かれて意見交換する、 話し合いの時間。 解\n決していく べき課題やまちの強みなど地域の現状を整理し、 そのう えで\nまちの魅力を高めるアクショ ンを考えてみましょ う 。\n \n③岡田氏：地域の歴史・文化（炬口城など）\n④小倉氏（兵庫県旅行業協会理事）：まちづくりのための観光のあり方 \n【懇親会】※希望者のみ要事前申込（フォームから受付）\n会場近く の食堂にて鍋を予定\n会費:3\,500円前後（飲料別） \n【対象者】\n●淡路島の地域づく り に興味・ 関心がある方。\n●地域の未来を一緒に考えてく ださ る方。\n●地域出身者、 移住者、 Iターン、 Uターンの方問わず関心のある方なら どなたでも参加いただけます。 \n【参加費】\n1\,000円（お茶菓子付き ）＜18歳以下（小・ 中・ 高） 500円＞\n※当日現金でお願いします\n※学生ボランティア募集（入場無料：フォームからお問合せください） \n※お申し込み期限： ３月13日（木） まで　定員： ５ ０ 名 \nお申し込みは、 下記のリンクからGoogle Formへ必要事項をご入力く ださい。\nhttps://forms.gle/WhL8mTP2RnwWq4qk6 \n令和６年度洲本市未来投資推進事業を活用しています。
URL:https://shunyoso.jp/event/community250315/
LOCATION:春陽荘\, 宇山2丁目5-4\, 洲本市\, 兵庫県\, 6560012\, 日本
CATEGORIES:観光まちづくり,郷土文化
END:VEVENT
BEGIN:VEVENT
DTSTART;TZID=Asia/Tokyo:20241102T123000
DTEND;TZID=Asia/Tokyo:20241102T163000
DTSTAMP:20260425T114259
CREATED:20240925T140737Z
LAST-MODIFIED:20240926T140242Z
UID:2044-1730550600-1730565000@shunyoso.jp
SUMMARY:第六回秋の芸能文化祭
DESCRIPTION:恒例の「春陽荘秋の芸能文化祭」も数えば今回で六回目となります。本祭は淡路島が誇る無形文化財と春陽荘の有形文化財の融合を通して、島のルーツである文化の継承と保全の大切さを考え、地域の宝を再発見することを目的として開催しております。 \n今回の見どころは、恒例となった「三原中学校の郷土部」による人形浄瑠璃に加え、\n島祭りでもお馴染みの津軽三味線師範の「高橋實栄」氏による三味線演奏、そして\nお馴染みになった落語家3人「かなり屋虎キチ」「西呑家おちよこ」「龍智家打雲」の豪華キャストで楽しんで頂ければと思います。 \n令和6年11月2日(土)　開場正午　開演午後1時　閉場午後4時半\n◆淡路人形浄瑠璃の部　(三原中学校郷土部)　\n①連弾　②戎舞 ③生写朝顔日記\n*雨天時、題目の変更あり \n◆三味線の部 (高橋實栄)\n①風林火山　②津軽じょんがら節\n③火の鳥　④弾き太鼓ばやし \n◆落語の部\n①かなり屋虎キチ　「犬の目」\n②西呑家おちよこ「まめだ」\n③龍智家打雲「般若寺の陰謀」 \n◆家主の案内による春陽荘見学会\n \n【料金】\n一般：2\,000円、学生（小中高）：1\,000円\n一般社団法人春陽荘文化財保存会会員：ご招待\n※未就学児は大人の膝上で静かにご覧ください。 \n【申込先】0799-62-0534高山090-4309-7973直通\n先着20名様まで事前予約を受け付けます。ご希望の方は氏名、住所、電話番号、希望時間、人数をお伝え下さい。オンラインフォームもご利用ください。\n※椅子席(6)をご希望の方は必ず事前に予約をお願いします。\n郵便振替用紙を郵送致します。オンライン申込も受付中。当日参加もOK!\n※駐車場は春陽荘、または洲浜中学校向かい西本歯科か炬口八幡神社へ\n（台数に限りがありますので乗り合わせにご協力願います） \n最後に、文化財を傷つけない、壊さない、庭園は飛び石の上、砂利を踏まないようにご協力お願い致します。出演者の写真をSNSなどで拡散する場合は、事前に本人の了承を得てください。 \n洲本市宇山2丁目5-4（電話0799-20-1729） \nオンライン申し込みフォーム \n  \n 
URL:https://shunyoso.jp/event/culturalfestival2024/
LOCATION:春陽荘\, 宇山2丁目5-4\, 洲本市\, 兵庫県\, 6560012\, 日本
CATEGORIES:郷土文化
ORGANIZER;CN="%E4%B8%80%E8%88%AC%E7%A4%BE%E5%9B%A3%E6%B3%95%E4%BA%BA%E6%98%A5%E9%99%BD%E8%8D%98%E6%96%87%E5%8C%96%E8%B2%A1%E4%BF%9D%E5%AD%98%E4%BC%9A":MAILTO:amormasa@gmail.com
END:VEVENT
BEGIN:VEVENT
DTSTART;TZID=Asia/Tokyo:20221105T130000
DTEND;TZID=Asia/Tokyo:20221105T170000
DTSTAMP:20260425T114259
CREATED:20220904T004700Z
LAST-MODIFIED:20220926T121820Z
UID:1940-1667653200-1667667600@shunyoso.jp
SUMMARY:第四回秋の芸能文化祭
DESCRIPTION:新型コロナウイルスのまん延で2年間自粛をしていた恒例の「春陽荘秋の芸能文化祭」を今年から再開することとなりました。本祭は淡路島の無形文化財と春陽荘の有形文化財の融合を通して、島のルーツである文化の継承と保全の大切さを考え、地域の宝を再発見することを目的として開催しております。 \n今回の見どころは、三原中学校の郷土部による人形浄瑠璃、令和二年にも好評を頂きました森和子さんと友人らによる筝曲、そして新たに重要無形文化財保持者でおられる太夫の竹本友和嘉さん（徳島市）と、淡路人形座の三味線奏者・鶴澤友勇さんによる解説と浄瑠璃による三本立の豪華キャストとなっております。コロナ対策で会場においては徹底した換気と人数制限を致し、少しでも多くの方のご来場をお待ちしています。 \n開場:　12:00PM\n開演　   1:00PM\n①淡路人形浄瑠璃の部（三原中学郷土部）　\n◆生写朝顔日記　宿屋より大井川の段 \n②筝曲の部（森和子筝曲研究室）\n（友情出演：岡田潤子・今井朋子）\n◆六段の調べ・日本のわらべ唄　他 \n③浄瑠璃の部\n（太夫：竹本友和嘉・三味線：鶴澤友勇）\n◆題目：未定 \n【料金】\n一般：2\,000円、学生（小中高）：1\,000円\n一般社団法人春陽荘文化財保存会会員：ご招待\n※未就学児は大人の膝上で静かにご覧ください。 \n【申込先】0799-62-0534高山 090-4309-7973直通\n【9月26日更新：定員に達しました。会員以外の受付は原則終わりました。】\n※駐車場は洲浜中学校向かい西本歯科（台数に限りがあります）\nまたは炬口八幡神社へ。駐輪場は正門横に確保しています。 \n⇒チラシpdfダウンロード\n⇒お問合せ・お申込みフォーム \n \n  \n  \n  \n  \n  \n  \n  \n  \n 
URL:https://shunyoso.jp/event/2022culturalfestival/
CATEGORIES:郷土文化
ORGANIZER;CN="%E4%B8%80%E8%88%AC%E7%A4%BE%E5%9B%A3%E6%B3%95%E4%BA%BA%E6%98%A5%E9%99%BD%E8%8D%98%E6%96%87%E5%8C%96%E8%B2%A1%E4%BF%9D%E5%AD%98%E4%BC%9A":MAILTO:amormasa@gmail.com
END:VEVENT
BEGIN:VEVENT
DTSTART;TZID=Asia/Tokyo:20211121T100000
DTEND;TZID=Asia/Tokyo:20211121T120000
DTSTAMP:20260425T114259
CREATED:20210927T044157Z
LAST-MODIFIED:20210928T031842Z
UID:1703-1637488800-1637496000@shunyoso.jp
SUMMARY:春陽荘特別講演会2021:山下保博 氏
DESCRIPTION:一般社団法人春陽荘文化財保存会主催 \nしま・ひと・たから\n－地域の伝統・伝説・日常があなたの街を元気にするー\n奄美大島で成功している空き家対策\n～うしお地区の地域活性化を考える住民のための講演会～ \n \nお申込みフォーム（外部リンク） \n \n2021年11月21日(日)\n開場:午前10:00 開演:午前10:30 終了:12:00PM\n一般中学生以上：1\,000 円 \n一般中学生未満または和装の個人：500 円 \n※淡路島銘菓とほうじ茶付 \n※雨天決行\n※予約者優先：先着約20名まで受付 \n●山下保博 氏 \n建築家/まちづくりプロデューサー 1960 年 鹿児島県奄美大島で生まれる。\n芝浦工業大学大学院工学研究科建設工 学修士課程を修了し、1991 年に建築事務所「アトリエ・天工人(テクト)」を設立する。 建築家として、現代の日本が抱える少子高齢化、地域間格差の拡大、労働力不足、空き家の増加、増えるインバウ ンドに対する受け皿不足などの課題解決を目指して活動を続け、国内外で様々 なアワードを受賞。 高齢者施設やリゾート施設、高齢者・ 障がい者・観光客による街の活性化について研究と実践を重ね、2016年より故郷の奄美大島笠利町を中心に「伝泊」 街づくりプロジェクトを展開。世界自然遺産登録に先駆けて取り組まれてきた「伝泊」は、国連世界観光機関（UNWTO）が審査する「第 6 回ジャパン・ツーリズム・アワード」にて最優秀賞である【国土交通大臣賞】と【UNWTO倫理賞】をダブル受賞した。 \nお申込みフォーム（外部リンク） \n【淡路島くにうみ協会：令和３年度地域活性化事業】
URL:https://shunyoso.jp/event/seminar202111/
LOCATION:春陽荘\, 宇山2丁目5-4\, 洲本市\, 兵庫県\, 6560012\, 日本
CATEGORIES:観光まちづくり,郷土文化
ORGANIZER;CN="%E4%B8%80%E8%88%AC%E7%A4%BE%E5%9B%A3%E6%B3%95%E4%BA%BA%E6%98%A5%E9%99%BD%E8%8D%98%E6%96%87%E5%8C%96%E8%B2%A1%E4%BF%9D%E5%AD%98%E4%BC%9A":MAILTO:amormasa@gmail.com
END:VEVENT
BEGIN:VEVENT
DTSTART;TZID=Asia/Tokyo:20181117T130000
DTEND;TZID=Asia/Tokyo:20181117T160000
DTSTAMP:20260425T114259
CREATED:20180820T231420Z
LAST-MODIFIED:20181015T230320Z
UID:1109-1542459600-1542470400@shunyoso.jp
SUMMARY:11月17日秋の芸能文化祭
DESCRIPTION:国登録有形文化財春陽荘\n淡路人形浄瑠璃公演＆落語会 \n春陽荘は、文化財の保存と活用のため非営利一般社団法人として活動をしています。今回は3度目となる三原中学校郷土部による人形浄瑠璃と聴衆を笑いで包む落語会を楽しんで頂けます。公演の前後には、甘味処「小梅」を営業しておりますので、京都から取り寄せたお抹茶や日本茶と島の銘菓などをお楽しみください。また、家主による屋敷内見学説明会も行いますので奮ってご参加ください。(台風25号により10月6日より延期となっております） \n \n11月17日（土）\n◆淡路人形浄瑠璃の部　開場12:30（開演13:00)\n①戎舞淡路人形浄瑠璃　\n②伊達娘恋日緋鹿子　八百屋お七　火の見櫓の段 \n◆家主による春陽荘のご案内 \n◆落語会の部　開演2:30PM\n①かなり屋虎キチ　「茶の湯」\n②龍智屋打雲　「月に群雲」\n③小金家文々　「延陽伯」 \n【料金】\n一般：2\,000円、学生（小中高）：1\,000円\n一般社団法人春陽荘文化財保存会会員：ご招待\n※未就学児は大人の膝上で静かにご覧ください。 \n【申込先】平日075-204-8965/他時間0799-62-0534高山\n先着20名様まで事前予約を享け賜ります。ご希望の方は氏名、住所、電話番号、希望時間、人数をお伝え下さい。郵便振替用紙を郵送致します。下のフォームからオンライン申込も受付中。※当日参加もお待ちしております。 \nご希望の方は事前予約をこのフォームで承ります。当日までの入金が条件となりますので、予めご了承ください。 \nエラー: コンタクトフォームが見つかりません。 \n \n \n \n  \n  \n 
URL:https://shunyoso.jp/event/culture201810/
LOCATION:春陽荘\, 宇山2丁目5-4\, 洲本市\, 兵庫県\, 6560012\, 日本
CATEGORIES:郷土文化
ORGANIZER;CN="%E4%B8%80%E8%88%AC%E7%A4%BE%E5%9B%A3%E6%B3%95%E4%BA%BA%E6%98%A5%E9%99%BD%E8%8D%98%E6%96%87%E5%8C%96%E8%B2%A1%E4%BF%9D%E5%AD%98%E4%BC%9A":MAILTO:amormasa@gmail.com
END:VEVENT
BEGIN:VEVENT
DTSTART;TZID=Asia/Tokyo:20180909T130000
DTEND;TZID=Asia/Tokyo:20180909T150000
DTSTAMP:20260425T114259
CREATED:20180514T011100Z
LAST-MODIFIED:20180824T124743Z
UID:1063-1536498000-1536505200@shunyoso.jp
SUMMARY:筆を手に一文字ずつ無心に記す「写古事記」体験
DESCRIPTION:『風水パワー！国登録有形文化財「春陽荘」で味わう 写経ならぬ写古事記？！体験』 \n「近ごろ、文字を書く機会が減った。ましてや筆なんて…。」そんな方におすすめしたい体験です。文字の上手い下手は気にせず、姿勢を正して、ひたすらに文字を書き写していきましょう。 \n \n体験内容 \n吟味された材質と匠の技が随所に施された春陽荘は、「風水」に基づいて建てられています。そんな特別な空間の中で、筆ペンで書き写していただくのは、般若心経ではなく、日本最古の歴史書「古事記」の原文です。 \n「写古事記」は、2016年4月に淡路島が日本遺産の認定を受けたことをきっかけに、2017年11月に誕生しました。当日は、写古事記の産みの親であり、このイベントの企画者である「書動家 つ花セん」氏が、古事記の冒頭を飾る「国生みの島・淡路」についての解説もして頂けます。他では決して味わうことのできない、特別な時間をご堪能下さい。 \n体験後は、併設の甘味処「小梅」の美味しい京都から取り寄せるお茶と淡路島の銘菓を頂きながら、和やかに談笑しつつ、ゆったりとした時間をお過ごしください。 \n日時：9月9日（日）午後13:00から15:00ごろ（雨天決行） \n※キャンセル期限開催日の3日前の17時以降にキャンセルする場合、キャンセル手数料として、体験料金を全額ご負担となります。\n ※スペースに制限があるため、申込先着12名様とさせて頂きます。 \n最少催行人数2人に満たない場合、体験は開催されません \n  \n注意事項必ずお読みの上、ご参加ください \n※当日、「写古事記セット」600円、筆ペン500円にて販売いたします。\n （体験料には含まれておりません。） \n既に「写古事記セット」や書きなれた筆ペンをお持ちの方は、ご持参ください。 \n※交通について \n・お車でお越しの場合、駐車場は二軒隣に8台ほどのスペースがございます。 \n・島内の路線バスをご利用の場合、「宇山」バス停より徒歩5分程度です。 \n淡路交通島内路線バス https://www.awaji-kotsu.co.jp/local/（時刻検索できます） \n・島内タクシーのご案内 \n＊淡路タクシー（春陽荘から260m：tel. 0120-191-330　または 0799-22-1330） \n＊淡路観光タクシー（春陽荘から1.1km：tel. 0799-24-5151） \n＊洲本タクシー（春陽荘から3.4km：tel. 0799-22-1261) \n※春陽荘は、希少まれな材質と匠の技が施されているため、現在では修繕困難な装飾などがございます。その点、ご配慮いただけますよう、よろしくお願いします。 \n集合場所 \n登録有形文化財春陽荘　　〒656-0012　兵庫県洲本市宇山2丁目5-4 \nお問合せ・お申込み：つ花セん（Tsukasen.）　携帯：08015208223\nまたは下記フォームから \nエラー: コンタクトフォームが見つかりません。
URL:https://shunyoso.jp/event/kojiki/
LOCATION:春陽荘\, 宇山2丁目5-4\, 洲本市\, 兵庫県\, 6560012\, 日本
CATEGORIES:郷土文化
ORGANIZER;CN="%E4%B8%80%E8%88%AC%E7%A4%BE%E5%9B%A3%E6%B3%95%E4%BA%BA%E6%98%A5%E9%99%BD%E8%8D%98%E6%96%87%E5%8C%96%E8%B2%A1%E4%BF%9D%E5%AD%98%E4%BC%9A":MAILTO:amormasa@gmail.com
END:VEVENT
BEGIN:VEVENT
DTSTART;TZID=Asia/Tokyo:20171203T140000
DTEND;TZID=Asia/Tokyo:20171203T150000
DTSTAMP:20260425T114259
CREATED:20171121T055922Z
LAST-MODIFIED:20171121T055922Z
UID:1003-1512309600-1512313200@shunyoso.jp
SUMMARY:岩木家の昔話
DESCRIPTION:  \n  \n  \n  \n  \n  \n  \n春陽荘は、昭和16（1941）年に、造船業で富を得た岩木家の社長宅兼事務所として建てられました。この息子さんにあたる岩木英一様は、現在神戸にて暮らしてられます。今回は岩木さんが暮らしておられた幼少の頃、春陽荘がどうであったかのお話を聞かせて頂きたいと思っています。 \n甘味処「小梅」で行いますので、お抹茶と生菓子や各種日本茶をお楽しみください。（飲食代は有料、入場は無料：ワンドリンク制）
URL:https://shunyoso.jp/event/iwaki_story/
LOCATION:春陽荘\, 宇山2丁目5-4\, 洲本市\, 兵庫県\, 6560012\, 日本
CATEGORIES:郷土文化
ORGANIZER;CN="%E4%B8%80%E8%88%AC%E7%A4%BE%E5%9B%A3%E6%B3%95%E4%BA%BA%E6%98%A5%E9%99%BD%E8%8D%98%E6%96%87%E5%8C%96%E8%B2%A1%E4%BF%9D%E5%AD%98%E4%BC%9A":MAILTO:amormasa@gmail.com
END:VEVENT
BEGIN:VEVENT
DTSTART;TZID=Asia/Tokyo:20171007T130000
DTEND;TZID=Asia/Tokyo:20171007T160000
DTSTAMP:20260425T114259
CREATED:20170804T011034Z
LAST-MODIFIED:20171006T014119Z
UID:878-1507381200-1507392000@shunyoso.jp
SUMMARY:淡路人形浄瑠璃特別記念公演
DESCRIPTION:国登録有形文化財春陽荘 × 三原中学校郷土部\n一般社団法人設立特別記念公演 \n春陽荘は、文化財の保存活用のため非営利一般社団法人を設立しました。記念公演として、三原中学校郷土部による人形浄瑠璃を国の有形文化財でご覧頂きます。公演の前後には、甘味処「小梅」を営業しておりますので、京都から取り寄せたお抹茶や日本茶と島の銘菓などをお楽しみください。 \n \n10月7日（土）\n【第一部】開場12:30（開演13:00)\n①戎舞　②伊達娘恋日緋鹿子　八百屋お七　火の見櫓の段 \n【第二部】開場14:45（開演15:00)\n①戎舞　②伊達娘恋日緋鹿子　八百屋お七　火の見櫓の段 \n【事前予約】各部指定20名まで、立見は10名程度まで\n※指定席のみ事前予約を承ります。立見は当日のみ受付\n【予約方法】9月29日（金）まで受付　事前受付は終了しました\n料金\n一般指定：2\,000円\n学生（小中高）指定：1\,500円\n一般立見：1\,500円\n学生（小中高）立見：1\,000円\n※未就学児は大人の膝上で静かにご覧ください。 \nこの事業は、（一財）淡路島くにうみ協会の助成を受けて実施しています。
URL:https://shunyoso.jp/event/awajipuppet2017/
LOCATION:春陽荘\, 宇山2丁目5-4\, 洲本市\, 兵庫県\, 6560012\, 日本
CATEGORIES:郷土文化
ORGANIZER;CN="%E4%B8%80%E8%88%AC%E7%A4%BE%E5%9B%A3%E6%B3%95%E4%BA%BA%E6%98%A5%E9%99%BD%E8%8D%98%E6%96%87%E5%8C%96%E8%B2%A1%E4%BF%9D%E5%AD%98%E4%BC%9A":MAILTO:amormasa@gmail.com
END:VEVENT
END:VCALENDAR